Package: gDNAx Version: 1.0.2 Command: /Library/Frameworks/R.framework/Resources/bin/R CMD check --install=check:gDNAx.install-out.txt --library=/Library/Frameworks/R.framework/Resources/library --no-vignettes --timings gDNAx_1.0.2.tar.gz StartedAt: 2024-04-17 14:19:08 -0400 (Wed, 17 Apr 2024) EndedAt: 2024-04-17 14:32:04 -0400 (Wed, 17 Apr 2024) EllapsedTime: 775.7 seconds RetCode: 0 Status: OK CheckDir: gDNAx.Rcheck Warnings: 0