Package: frma Version: 1.54.0 Command: /Library/Frameworks/R.framework/Resources/bin/R CMD INSTALL frma StartedAt: 2024-04-16 10:36:51 -0400 (Tue, 16 Apr 2024) EndedAt: 2024-04-16 10:37:29 -0400 (Tue, 16 Apr 2024) EllapsedTime: 37.5 seconds RetCode: 0 Status: OK