Package: fmrs Version: 1.12.0 Command: /Library/Frameworks/R.framework/Resources/bin/R CMD build --keep-empty-dirs --no-resave-data fmrs StartedAt: 2024-04-16 18:21:21 -0400 (Tue, 16 Apr 2024) EndedAt: 2024-04-16 18:21:38 -0400 (Tue, 16 Apr 2024) EllapsedTime: 17.2 seconds RetCode: 0 Status: OK PackageFile: fmrs_1.12.0.tar.gz PackageFileSize: 46.97 KiB