Package: fmrs Version: 1.12.0 Command: rm -rf fmrs.buildbin-libdir && mkdir fmrs.buildbin-libdir && /Users/biocbuild/BBS/utils/build-universal.sh fmrs_1.12.0.tar.gz /Library/Frameworks/R.framework/Resources/bin/R fmrs.buildbin-libdir StartedAt: 2024-04-18 09:20:15 -0400 (Thu, 18 Apr 2024) EndedAt: 2024-04-18 09:20:32 -0400 (Thu, 18 Apr 2024) EllapsedTime: 16.8 seconds RetCode: 0 Status: OK PackageFile: fmrs_1.12.0.tgz PackageFileSize: 196.8 KiB