Package: fmcsR Version: 1.44.0 Command: /Library/Frameworks/R.framework/Resources/bin/R CMD check --install=check:fmcsR.install-out.txt --library=/Library/Frameworks/R.framework/Resources/library --no-vignettes --timings fmcsR_1.44.0.tar.gz StartedAt: 2024-04-17 14:03:23 -0400 (Wed, 17 Apr 2024) EndedAt: 2024-04-17 14:04:40 -0400 (Wed, 17 Apr 2024) EllapsedTime: 77.3 seconds RetCode: 0 Status: OK CheckDir: fmcsR.Rcheck Warnings: 0