Package: fmcsR Version: 1.44.0 Command: rm -rf fmcsR.buildbin-libdir && mkdir fmcsR.buildbin-libdir && /Users/biocbuild/BBS/utils/build-universal.sh fmcsR_1.44.0.tar.gz /Library/Frameworks/R.framework/Resources/bin/R fmcsR.buildbin-libdir StartedAt: 2024-04-18 09:20:14 -0400 (Thu, 18 Apr 2024) EndedAt: 2024-04-18 09:20:51 -0400 (Thu, 18 Apr 2024) EllapsedTime: 36.9 seconds RetCode: 0 Status: OK PackageFile: fmcsR_1.44.0.tgz PackageFileSize: 1018 KiB