Package: flowWorkspace Version: 4.14.3 Command: /Library/Frameworks/R.framework/Resources/bin/R CMD check --install=check:flowWorkspace.install-out.txt --library=/Library/Frameworks/R.framework/Resources/library --no-vignettes --timings flowWorkspace_4.14.3.tar.gz StartedAt: 2024-04-17 14:01:33 -0400 (Wed, 17 Apr 2024) EndedAt: 2024-04-17 14:05:22 -0400 (Wed, 17 Apr 2024) EllapsedTime: 228.9 seconds RetCode: 0 Status: WARNINGS CheckDir: flowWorkspace.Rcheck Warnings: 5