Package: flowMerge Version: 2.50.0 Command: /Library/Frameworks/R.framework/Resources/bin/R CMD INSTALL flowMerge StartedAt: 2024-04-16 10:24:45 -0400 (Tue, 16 Apr 2024) EndedAt: 2024-04-16 10:25:05 -0400 (Tue, 16 Apr 2024) EllapsedTime: 19.8 seconds RetCode: 0 Status: OK