Package: flowFP Version: 1.60.0 Command: /Library/Frameworks/R.framework/Resources/bin/R CMD check --install=check:flowFP.install-out.txt --library=/Library/Frameworks/R.framework/Resources/library --no-vignettes --timings flowFP_1.60.0.tar.gz StartedAt: 2024-04-17 13:54:36 -0400 (Wed, 17 Apr 2024) EndedAt: 2024-04-17 13:56:28 -0400 (Wed, 17 Apr 2024) EllapsedTime: 111.8 seconds RetCode: 0 Status: WARNINGS CheckDir: flowFP.Rcheck Warnings: 1