Package: flowDensity Version: 1.36.1 Command: /Library/Frameworks/R.framework/Resources/bin/R CMD build --keep-empty-dirs --no-resave-data flowDensity StartedAt: 2024-04-16 18:15:54 -0400 (Tue, 16 Apr 2024) EndedAt: 2024-04-16 18:15:55 -0400 (Tue, 16 Apr 2024) EllapsedTime: 1.2 seconds RetCode: 0 Status: OK PackageFile: flowDensity_1.36.1.tar.gz PackageFileSize: 4.295 MiB