Package: flowCore Version: 2.14.2 Command: /Library/Frameworks/R.framework/Resources/bin/R CMD INSTALL flowCore StartedAt: 2024-04-16 10:11:36 -0400 (Tue, 16 Apr 2024) EndedAt: 2024-04-16 10:12:22 -0400 (Tue, 16 Apr 2024) EllapsedTime: 45.7 seconds RetCode: 0 Status: OK