Package: flowBin Version: 1.38.0 Command: /Library/Frameworks/R.framework/Resources/bin/R CMD check --install=check:flowBin.install-out.txt --library=/Library/Frameworks/R.framework/Resources/library --no-vignettes --timings flowBin_1.38.0.tar.gz StartedAt: 2024-04-17 13:50:28 -0400 (Wed, 17 Apr 2024) EndedAt: 2024-04-17 13:51:59 -0400 (Wed, 17 Apr 2024) EllapsedTime: 90.9 seconds RetCode: 0 Status: OK CheckDir: flowBin.Rcheck Warnings: 0