Package: fishpond Version: 2.8.0 Command: /Library/Frameworks/R.framework/Resources/bin/R CMD INSTALL fishpond StartedAt: 2024-04-16 10:34:08 -0400 (Tue, 16 Apr 2024) EndedAt: 2024-04-16 10:34:38 -0400 (Tue, 16 Apr 2024) EllapsedTime: 29.6 seconds RetCode: 0 Status: OK