Package: fishpond Version: 2.8.0 Command: rm -rf fishpond.buildbin-libdir && mkdir fishpond.buildbin-libdir && /Users/biocbuild/BBS/utils/build-universal.sh fishpond_2.8.0.tar.gz /Library/Frameworks/R.framework/Resources/bin/R fishpond.buildbin-libdir StartedAt: 2024-04-18 09:17:55 -0400 (Thu, 18 Apr 2024) EndedAt: 2024-04-18 09:18:32 -0400 (Thu, 18 Apr 2024) EllapsedTime: 37.6 seconds RetCode: 0 Status: OK PackageFile: fishpond_2.8.0.tgz PackageFileSize: 4.006 MiB