Package: fgga Version: 1.10.2 Command: /Library/Frameworks/R.framework/Resources/bin/R CMD build --keep-empty-dirs --no-resave-data fgga StartedAt: 2024-04-16 18:07:14 -0400 (Tue, 16 Apr 2024) EndedAt: 2024-04-16 18:08:09 -0400 (Tue, 16 Apr 2024) EllapsedTime: 54.8 seconds RetCode: 0 Status: OK PackageFile: fgga_1.10.2.tar.gz PackageFileSize: 1.355 MiB