Package: fcoex Version: 1.16.0 Maintainer: Tiago Lubiana MaintainerEmail: tiago.lubiana.alves at usp.br git_url: https://git.bioconductor.org/packages/fcoex git_branch: RELEASE_3_18 git_last_commit: ccbe902 git_last_commit_date: 2023-10-24 11:18:00 -0400 (Tue, 24 Oct 2023)