Package: fastseg Version: 1.48.0 Command: /Library/Frameworks/R.framework/Resources/bin/R CMD check --install=check:fastseg.install-out.txt --library=/Library/Frameworks/R.framework/Resources/library --no-vignettes --timings fastseg_1.48.0.tar.gz StartedAt: 2024-04-17 13:35:22 -0400 (Wed, 17 Apr 2024) EndedAt: 2024-04-17 13:37:02 -0400 (Wed, 17 Apr 2024) EllapsedTime: 100.1 seconds RetCode: 0 Status: OK CheckDir: fastseg.Rcheck Warnings: 0