Package: factR Version: 1.4.0 Command: /Library/Frameworks/R.framework/Resources/bin/R CMD check --install=check:factR.install-out.txt --library=/Library/Frameworks/R.framework/Resources/library --no-vignettes --timings factR_1.4.0.tar.gz StartedAt: 2024-04-17 13:31:50 -0400 (Wed, 17 Apr 2024) EndedAt: 2024-04-17 13:34:32 -0400 (Wed, 17 Apr 2024) EllapsedTime: 162.2 seconds RetCode: 0 Status: OK CheckDir: factR.Rcheck Warnings: 0