Package: factR Version: 1.4.0 Command: rm -rf factR.buildbin-libdir && mkdir factR.buildbin-libdir && /Users/biocbuild/BBS/utils/build-universal.sh factR_1.4.0.tar.gz /Library/Frameworks/R.framework/Resources/bin/R factR.buildbin-libdir StartedAt: 2024-04-18 09:16:12 -0400 (Thu, 18 Apr 2024) EndedAt: 2024-04-18 09:16:28 -0400 (Thu, 18 Apr 2024) EllapsedTime: 16.1 seconds RetCode: 0 Status: OK PackageFile: factR_1.4.0.tgz PackageFileSize: 1.928 MiB