Package: factDesign Version: 1.78.0 Command: /Library/Frameworks/R.framework/Resources/bin/R CMD build --keep-empty-dirs --no-resave-data factDesign StartedAt: 2024-04-16 18:00:59 -0400 (Tue, 16 Apr 2024) EndedAt: 2024-04-16 18:01:12 -0400 (Tue, 16 Apr 2024) EllapsedTime: 13.5 seconds RetCode: 0 Status: OK PackageFile: factDesign_1.78.0.tar.gz PackageFileSize: 217 KiB