Package: esetVis Version: 1.28.2 Command: /Library/Frameworks/R.framework/Resources/bin/R CMD INSTALL esetVis StartedAt: 2024-04-16 10:38:15 -0400 (Tue, 16 Apr 2024) EndedAt: 2024-04-16 10:38:34 -0400 (Tue, 16 Apr 2024) EllapsedTime: 19.4 seconds RetCode: 0 Status: OK