Package: esetVis Version: 1.28.2 Command: /Library/Frameworks/R.framework/Resources/bin/R CMD build --keep-empty-dirs --no-resave-data esetVis StartedAt: 2024-04-16 17:56:16 -0400 (Tue, 16 Apr 2024) EndedAt: 2024-04-16 17:58:13 -0400 (Tue, 16 Apr 2024) EllapsedTime: 116.6 seconds RetCode: 0 Status: OK PackageFile: esetVis_1.28.2.tar.gz PackageFileSize: 4.331 MiB