Package: erccdashboard Version: 1.36.0 Command: /Library/Frameworks/R.framework/Resources/bin/R CMD INSTALL erccdashboard StartedAt: 2024-04-16 10:34:06 -0400 (Tue, 16 Apr 2024) EndedAt: 2024-04-16 10:34:16 -0400 (Tue, 16 Apr 2024) EllapsedTime: 10.4 seconds RetCode: 0 Status: OK