Package: erccdashboard Version: 1.36.0 Command: rm -rf erccdashboard.buildbin-libdir && mkdir erccdashboard.buildbin-libdir && /Users/biocbuild/BBS/utils/build-universal.sh erccdashboard_1.36.0.tar.gz /Library/Frameworks/R.framework/Resources/bin/R erccdashboard.buildbin-libdir StartedAt: 2024-04-18 09:13:00 -0400 (Thu, 18 Apr 2024) EndedAt: 2024-04-18 09:13:14 -0400 (Thu, 18 Apr 2024) EllapsedTime: 13.6 seconds RetCode: 0 Status: OK PackageFile: erccdashboard_1.36.0.tgz PackageFileSize: 2.517 MiB