Package: epistack Version: 1.8.0 Command: rm -rf epistack.buildbin-libdir && mkdir epistack.buildbin-libdir && /Users/biocbuild/BBS/utils/build-universal.sh epistack_1.8.0.tar.gz /Library/Frameworks/R.framework/Resources/bin/R epistack.buildbin-libdir StartedAt: 2024-04-18 09:11:16 -0400 (Thu, 18 Apr 2024) EndedAt: 2024-04-18 09:11:51 -0400 (Thu, 18 Apr 2024) EllapsedTime: 35.1 seconds RetCode: 0 Status: OK PackageFile: epistack_1.8.0.tgz PackageFileSize: 2.167 MiB