Package: enhancerHomologSearch Version: 1.8.3 Command: /Library/Frameworks/R.framework/Resources/bin/R CMD build --keep-empty-dirs --no-resave-data enhancerHomologSearch StartedAt: 2024-04-16 17:37:20 -0400 (Tue, 16 Apr 2024) EndedAt: 2024-04-16 17:53:20 -0400 (Tue, 16 Apr 2024) EllapsedTime: 960.2 seconds RetCode: 0 Status: OK PackageFile: enhancerHomologSearch_1.8.3.tar.gz PackageFileSize: 1.043 MiB