Package: eisaR Version: 1.14.1 Command: /Library/Frameworks/R.framework/Resources/bin/R CMD build --keep-empty-dirs --no-resave-data eisaR StartedAt: 2024-04-16 17:35:16 -0400 (Tue, 16 Apr 2024) EndedAt: 2024-04-16 17:37:14 -0400 (Tue, 16 Apr 2024) EllapsedTime: 117.8 seconds RetCode: 0 Status: OK PackageFile: eisaR_1.14.1.tar.gz PackageFileSize: 1.721 MiB