Package: drawProteins Version: 1.22.2 Command: /Library/Frameworks/R.framework/Resources/bin/R CMD check --install=check:drawProteins.install-out.txt --library=/Library/Frameworks/R.framework/Resources/library --no-vignettes --timings drawProteins_1.22.2.tar.gz StartedAt: 2024-04-17 12:18:37 -0400 (Wed, 17 Apr 2024) EndedAt: 2024-04-17 12:19:22 -0400 (Wed, 17 Apr 2024) EllapsedTime: 44.9 seconds RetCode: 0 Status: OK CheckDir: drawProteins.Rcheck Warnings: 0