Package: dpeak Version: 1.14.0 Command: /Library/Frameworks/R.framework/Resources/bin/R CMD check --install=check:dpeak.install-out.txt --library=/Library/Frameworks/R.framework/Resources/library --no-vignettes --timings dpeak_1.14.0.tar.gz StartedAt: 2024-04-17 12:18:35 -0400 (Wed, 17 Apr 2024) EndedAt: 2024-04-17 12:23:25 -0400 (Wed, 17 Apr 2024) EllapsedTime: 289.7 seconds RetCode: 0 Status: OK CheckDir: dpeak.Rcheck Warnings: 0