Package: doubletrouble Version: 1.2.5 Command: /Library/Frameworks/R.framework/Resources/bin/R CMD check --install=check:doubletrouble.install-out.txt --library=/Library/Frameworks/R.framework/Resources/library --no-vignettes --timings doubletrouble_1.2.5.tar.gz StartedAt: 2024-04-17 12:17:46 -0400 (Wed, 17 Apr 2024) EndedAt: 2024-04-17 12:24:13 -0400 (Wed, 17 Apr 2024) EllapsedTime: 386.7 seconds RetCode: 0 Status: OK CheckDir: doubletrouble.Rcheck Warnings: 0