Package: doseR Version: 1.18.0 Command: /Library/Frameworks/R.framework/Resources/bin/R CMD build --keep-empty-dirs --no-resave-data doseR StartedAt: 2024-04-16 17:21:28 -0400 (Tue, 16 Apr 2024) EndedAt: 2024-04-16 17:22:09 -0400 (Tue, 16 Apr 2024) EllapsedTime: 40.8 seconds RetCode: 0 Status: OK PackageFile: doseR_1.18.0.tar.gz PackageFileSize: 1.344 MiB