Package: dmrseq Version: 1.22.1 Command: /Library/Frameworks/R.framework/Resources/bin/R CMD INSTALL dmrseq StartedAt: 2024-04-16 13:01:55 -0400 (Tue, 16 Apr 2024) EndedAt: 2024-04-16 13:02:58 -0400 (Tue, 16 Apr 2024) EllapsedTime: 63.4 seconds RetCode: 0 Status: OK