Package: dmrseq Version: 1.22.1 Command: /Library/Frameworks/R.framework/Resources/bin/R CMD check --install=check:dmrseq.install-out.txt --library=/Library/Frameworks/R.framework/Resources/library --no-vignettes --timings dmrseq_1.22.1.tar.gz StartedAt: 2024-04-17 12:08:05 -0400 (Wed, 17 Apr 2024) EndedAt: 2024-04-17 12:15:44 -0400 (Wed, 17 Apr 2024) EllapsedTime: 458.7 seconds RetCode: 0 Status: OK CheckDir: dmrseq.Rcheck Warnings: 0