Package: distinct Version: 1.14.5 Command: /Library/Frameworks/R.framework/Resources/bin/R CMD INSTALL distinct StartedAt: 2024-04-16 12:27:01 -0400 (Tue, 16 Apr 2024) EndedAt: 2024-04-16 12:28:16 -0400 (Tue, 16 Apr 2024) EllapsedTime: 74.4 seconds RetCode: 0 Status: OK