Package: diffHic Version: 1.34.0 Command: /Library/Frameworks/R.framework/Resources/bin/R CMD INSTALL diffHic StartedAt: 2024-04-16 10:53:26 -0400 (Tue, 16 Apr 2024) EndedAt: 2024-04-16 10:55:23 -0400 (Tue, 16 Apr 2024) EllapsedTime: 117.8 seconds RetCode: 0 Status: OK