Package: diffHic Version: 1.34.0 Command: rm -rf diffHic.buildbin-libdir && mkdir diffHic.buildbin-libdir && /Users/biocbuild/BBS/utils/build-universal.sh diffHic_1.34.0.tar.gz /Library/Frameworks/R.framework/Resources/bin/R diffHic.buildbin-libdir StartedAt: 2024-04-18 09:01:48 -0400 (Thu, 18 Apr 2024) EndedAt: 2024-04-18 09:04:15 -0400 (Thu, 18 Apr 2024) EllapsedTime: 147.0 seconds RetCode: 0 Status: OK PackageFile: diffHic_1.34.0.tgz PackageFileSize: 2.415 MiB