Package: derfinder Version: 1.36.0 Command: /Library/Frameworks/R.framework/Resources/bin/R CMD INSTALL derfinder StartedAt: 2024-04-16 11:31:22 -0400 (Tue, 16 Apr 2024) EndedAt: 2024-04-16 11:32:21 -0400 (Tue, 16 Apr 2024) EllapsedTime: 58.6 seconds RetCode: 0 Status: OK