Package: densvis Version: 1.12.1 Command: /Library/Frameworks/R.framework/Resources/bin/R CMD build --keep-empty-dirs --no-resave-data densvis StartedAt: 2024-04-16 16:55:19 -0400 (Tue, 16 Apr 2024) EndedAt: 2024-04-16 16:57:06 -0400 (Tue, 16 Apr 2024) EllapsedTime: 107.4 seconds RetCode: 0 Status: OK PackageFile: densvis_1.12.1.tar.gz PackageFileSize: 1.786 MiB