Package: demuxmix Version: 1.4.0 Command: /Library/Frameworks/R.framework/Resources/bin/R CMD check --install=check:demuxmix.install-out.txt --library=/Library/Frameworks/R.framework/Resources/library --no-vignettes --timings demuxmix_1.4.0.tar.gz StartedAt: 2024-04-17 11:38:05 -0400 (Wed, 17 Apr 2024) EndedAt: 2024-04-17 11:39:20 -0400 (Wed, 17 Apr 2024) EllapsedTime: 74.2 seconds RetCode: 0 Status: OK CheckDir: demuxmix.Rcheck Warnings: 0