Package: demuxmix Version: 1.4.0 Command: /Library/Frameworks/R.framework/Resources/bin/R CMD build --keep-empty-dirs --no-resave-data demuxmix StartedAt: 2024-04-16 16:54:20 -0400 (Tue, 16 Apr 2024) EndedAt: 2024-04-16 16:55:03 -0400 (Tue, 16 Apr 2024) EllapsedTime: 42.4 seconds RetCode: 0 Status: OK PackageFile: demuxmix_1.4.0.tar.gz PackageFileSize: 1.42 MiB