Package: demuxSNP Version: 1.0.0 Command: /Library/Frameworks/R.framework/Resources/bin/R CMD build --keep-empty-dirs --no-resave-data demuxSNP StartedAt: 2024-04-16 16:55:03 -0400 (Tue, 16 Apr 2024) EndedAt: 2024-04-16 16:57:43 -0400 (Tue, 16 Apr 2024) EllapsedTime: 160.2 seconds RetCode: 0 Status: OK PackageFile: demuxSNP_1.0.0.tar.gz PackageFileSize: 1.693 MiB