Package: deepSNV Version: 1.48.0 Command: /Library/Frameworks/R.framework/Resources/bin/R CMD check --install=check:deepSNV.install-out.txt --library=/Library/Frameworks/R.framework/Resources/library --no-vignettes --timings deepSNV_1.48.0.tar.gz StartedAt: 2024-04-17 11:16:23 -0400 (Wed, 17 Apr 2024) EndedAt: 2024-04-17 11:23:08 -0400 (Wed, 17 Apr 2024) EllapsedTime: 404.6 seconds RetCode: 0 Status: WARNINGS CheckDir: deepSNV.Rcheck Warnings: 1