Package: debCAM Version: 1.20.0 Command: rm -rf debCAM.buildbin-libdir && mkdir debCAM.buildbin-libdir && /Users/biocbuild/BBS/utils/build-universal.sh debCAM_1.20.0.tar.gz /Library/Frameworks/R.framework/Resources/bin/R debCAM.buildbin-libdir StartedAt: 2024-04-18 08:56:30 -0400 (Thu, 18 Apr 2024) EndedAt: 2024-04-18 08:56:46 -0400 (Thu, 18 Apr 2024) EllapsedTime: 15.9 seconds RetCode: 0 Status: OK PackageFile: debCAM_1.20.0.tgz PackageFileSize: 3.158 MiB