Package: dearseq Version: 1.14.0 Command: /Library/Frameworks/R.framework/Resources/bin/R CMD check --install=check:dearseq.install-out.txt --library=/Library/Frameworks/R.framework/Resources/library --no-vignettes --timings dearseq_1.14.0.tar.gz StartedAt: 2024-04-17 11:11:36 -0400 (Wed, 17 Apr 2024) EndedAt: 2024-04-17 11:13:11 -0400 (Wed, 17 Apr 2024) EllapsedTime: 94.6 seconds RetCode: 0 Status: OK CheckDir: dearseq.Rcheck Warnings: 0