Package: dcGSA Version: 1.30.0 Command: /Library/Frameworks/R.framework/Resources/bin/R CMD build --keep-empty-dirs --no-resave-data dcGSA StartedAt: 2024-04-16 16:34:00 -0400 (Tue, 16 Apr 2024) EndedAt: 2024-04-16 16:34:02 -0400 (Tue, 16 Apr 2024) EllapsedTime: 1.2 seconds RetCode: 0 Status: OK PackageFile: dcGSA_1.30.0.tar.gz PackageFileSize: 37.43 KiB