Package: dagLogo Version: 1.40.0 Command: /Library/Frameworks/R.framework/Resources/bin/R CMD build --keep-empty-dirs --no-resave-data dagLogo StartedAt: 2024-04-16 16:31:46 -0400 (Tue, 16 Apr 2024) EndedAt: 2024-04-16 16:33:58 -0400 (Tue, 16 Apr 2024) EllapsedTime: 131.6 seconds RetCode: 0 Status: OK PackageFile: dagLogo_1.40.0.tar.gz PackageFileSize: 3.112 MiB