Package: dagLogo Version: 1.40.0 Command: rm -rf dagLogo.buildbin-libdir && mkdir dagLogo.buildbin-libdir && /Users/biocbuild/BBS/utils/build-universal.sh dagLogo_1.40.0.tar.gz /Library/Frameworks/R.framework/Resources/bin/R dagLogo.buildbin-libdir StartedAt: 2024-04-18 08:55:07 -0400 (Thu, 18 Apr 2024) EndedAt: 2024-04-18 08:56:19 -0400 (Thu, 18 Apr 2024) EllapsedTime: 71.7 seconds RetCode: 0 Status: OK PackageFile: dagLogo_1.40.0.tgz PackageFileSize: 3.678 MiB