Package: daMA Version: 1.74.0 Command: rm -rf daMA.buildbin-libdir && mkdir daMA.buildbin-libdir && /Users/biocbuild/BBS/utils/build-universal.sh daMA_1.74.0.tar.gz /Library/Frameworks/R.framework/Resources/bin/R daMA.buildbin-libdir StartedAt: 2024-04-18 08:55:07 -0400 (Thu, 18 Apr 2024) EndedAt: 2024-04-18 08:55:12 -0400 (Thu, 18 Apr 2024) EllapsedTime: 4.6 seconds RetCode: 0 Status: OK PackageFile: daMA_1.74.0.tgz PackageFileSize: 4.058 MiB