Package: dStruct Version: 1.8.0 Command: /Library/Frameworks/R.framework/Resources/bin/R CMD build --keep-empty-dirs --no-resave-data dStruct StartedAt: 2024-04-16 17:26:14 -0400 (Tue, 16 Apr 2024) EndedAt: 2024-04-16 17:26:33 -0400 (Tue, 16 Apr 2024) EllapsedTime: 18.4 seconds RetCode: 0 Status: OK PackageFile: dStruct_1.8.0.tar.gz PackageFileSize: 557.4 KiB