Package: dStruct Version: 1.8.0 Command: rm -rf dStruct.buildbin-libdir && mkdir dStruct.buildbin-libdir && /Users/biocbuild/BBS/utils/build-universal.sh dStruct_1.8.0.tar.gz /Library/Frameworks/R.framework/Resources/bin/R dStruct.buildbin-libdir StartedAt: 2024-04-18 09:05:58 -0400 (Thu, 18 Apr 2024) EndedAt: 2024-04-18 09:06:03 -0400 (Thu, 18 Apr 2024) EllapsedTime: 5.7 seconds RetCode: 0 Status: OK PackageFile: dStruct_1.8.0.tgz PackageFileSize: 597.4 KiB